BEGIN:VCALENDAR
VERSION:2.0
PRODID:-//Castle Bromwich Historic Gardens - ECPv6.15.20//NONSGML v1.0//EN
CALSCALE:GREGORIAN
METHOD:PUBLISH
X-WR-CALNAME:Castle Bromwich Historic Gardens
X-ORIGINAL-URL:https://www.castlebromwichhallgardens.org.uk
X-WR-CALDESC:Events for Castle Bromwich Historic Gardens
REFRESH-INTERVAL;VALUE=DURATION:PT1H
X-Robots-Tag:noindex
X-PUBLISHED-TTL:PT1H
BEGIN:VTIMEZONE
TZID:Europe/London
BEGIN:DAYLIGHT
TZOFFSETFROM:+0000
TZOFFSETTO:+0100
TZNAME:BST
DTSTART:20250330T010000
END:DAYLIGHT
BEGIN:STANDARD
TZOFFSETFROM:+0100
TZOFFSETTO:+0000
TZNAME:GMT
DTSTART:20251026T010000
END:STANDARD
BEGIN:DAYLIGHT
TZOFFSETFROM:+0000
TZOFFSETTO:+0100
TZNAME:BST
DTSTART:20260329T010000
END:DAYLIGHT
BEGIN:STANDARD
TZOFFSETFROM:+0100
TZOFFSETTO:+0000
TZNAME:GMT
DTSTART:20261025T010000
END:STANDARD
BEGIN:DAYLIGHT
TZOFFSETFROM:+0000
TZOFFSETTO:+0100
TZNAME:BST
DTSTART:20270328T010000
END:DAYLIGHT
BEGIN:STANDARD
TZOFFSETFROM:+0100
TZOFFSETTO:+0000
TZNAME:GMT
DTSTART:20271031T010000
END:STANDARD
END:VTIMEZONE
BEGIN:VEVENT
DTSTART;TZID=Europe/London:20260724T113000
DTEND;TZID=Europe/London:20260724T123000
DTSTAMP:20260422T225844
CREATED:20260421T140927Z
LAST-MODIFIED:20260421T141351Z
UID:11002124-1784892600-1784896200@www.castlebromwichhallgardens.org.uk
SUMMARY:'Lost Landscapes'\, Castle Bromwich in Medieval England
DESCRIPTION:‘Lost Landscapes’\, Medieval Castle Brom\nCastle Bromwich Motte and Bailey: the castle on the Collector Road \nWhy is it Castle Bromwich? This illustrated talk by archaeologist Dr Mike Hodder of the University of Birmingham will describe the excavations that took place on the motte and bailey castle before the Collector Road was built. It will explain its setting in medieval Castle Bromwich and compare it with other castles and manor houses in the West Midlands and beyond. \nTime:\n11:30 start\, lasting about an hour with questions. Chairs provided. \nTickets:  https://www.eventbrite.com/e/lost-landscapes-castle-bromwich-in-medieval-england-tickets-1987896454809?aff=oddtdtcreator\n£5 (includes general entry)\, free for Annual Pass Holders but limited spaces available. \nBelow: view of excavation of the motte and bailey castle\, courtesy of Dr. Mike Hodder \n\n  \nYour ticket grants you entry to the Gardens for the whole day\, so you may come from the time the gates open at 10:30 and stay until 16:30 if you like!\nHaving had over 30 years of experience in West Midlands history and archaeology\, Mike is the perfect individual to allow us to delve into the lives of those living in and around Medieval Castle Bromwich\, well before these historic gardens were laid out. \nHis particular interest in old ‘Pimple Hill’ as it’s known locally\, stems from the fact that when he was still at school\, he joined in with the original excavation of the site in the 1970s. \nMike will take us through the medieval centuries in a talk designed to reveal the hidden landscapes of pre-Tudor Castle Bromwich\, its fascinating history and how this past interacts with our present. \nFurther particulars:\nit is suggested that this event is largely for adults. It may also interest Sixth Formers who have a particular interest in History or Archaeology.
URL:https://www.castlebromwichhallgardens.org.uk/calendar/lost-landscapes-castle-bromwich-in-medieval-england/
LOCATION:Castle Bromwich Historic Gardens\, Chester Road\, Castle Bromwich\, Birmingham\, B36 9BT\, United Kingdom
CATEGORIES:Heritage,Summer
ATTACH;FMTTYPE=image/png:https://www.castlebromwichhallgardens.org.uk/wp-content/uploads/2026/04/Eventbrite-.png
END:VEVENT
END:VCALENDAR