BEGIN:VCALENDAR
VERSION:2.0
PRODID:-//Castle Bromwich Historic Gardens - ECPv6.15.20//NONSGML v1.0//EN
CALSCALE:GREGORIAN
METHOD:PUBLISH
X-WR-CALNAME:Castle Bromwich Historic Gardens
X-ORIGINAL-URL:https://www.castlebromwichhallgardens.org.uk
X-WR-CALDESC:Events for Castle Bromwich Historic Gardens
REFRESH-INTERVAL;VALUE=DURATION:PT1H
X-Robots-Tag:noindex
X-PUBLISHED-TTL:PT1H
BEGIN:VTIMEZONE
TZID:Europe/London
BEGIN:DAYLIGHT
TZOFFSETFROM:+0000
TZOFFSETTO:+0100
TZNAME:BST
DTSTART:20250330T010000
END:DAYLIGHT
BEGIN:STANDARD
TZOFFSETFROM:+0100
TZOFFSETTO:+0000
TZNAME:GMT
DTSTART:20251026T010000
END:STANDARD
BEGIN:DAYLIGHT
TZOFFSETFROM:+0000
TZOFFSETTO:+0100
TZNAME:BST
DTSTART:20260329T010000
END:DAYLIGHT
BEGIN:STANDARD
TZOFFSETFROM:+0100
TZOFFSETTO:+0000
TZNAME:GMT
DTSTART:20261025T010000
END:STANDARD
BEGIN:DAYLIGHT
TZOFFSETFROM:+0000
TZOFFSETTO:+0100
TZNAME:BST
DTSTART:20270328T010000
END:DAYLIGHT
BEGIN:STANDARD
TZOFFSETFROM:+0100
TZOFFSETTO:+0000
TZNAME:GMT
DTSTART:20271031T010000
END:STANDARD
END:VTIMEZONE
BEGIN:VEVENT
DTSTART;TZID=Europe/London:20260531T190000
DTEND;TZID=Europe/London:20260531T213000
DTSTAMP:20260420T140740
CREATED:20260315T151729Z
LAST-MODIFIED:20260322T122718Z
UID:11002088-1780254000-1780263000@www.castlebromwichhallgardens.org.uk
SUMMARY:Blue Moon Circles
DESCRIPTION:An evening of folklore\, healing\, connection and manifestation with the TĪD MŌNA COVEN.\n\n\nThe TÍD MÓNA Coven are excited to be working with Castle Bromwich Historic Gardens to bring to you another full moon circles.\nWho? \nThe TÍD MÓNA Coven are a traditional\, closed UK coven based in Birmingham. \nAs well as being a fully working closed coven they work hard within the pagan community to bring pagan knowledge and ceremony to the public. \nWhat? \nThe New moon circle is a spiritual\, emotionally and enlightening experience. \nFor those aged 16+ that are either pagan and proud\, dipping their toe or completely new \nto this nature-based way of life and keen to learn more. You will meet the coven and have a \nchance to chat in a social relaxed setting before moving to the circle sites to listen to fantastic astrological knowledge that corresponds with the new moon. Following this you will create circle\, sacred space to welcome the new moon’s potent energy for intentionsetting\, manifestation\, looking forward\, connecting and creating community. There will be guided meditation and of course self-reflection. \nThis can have quite the emotional impact so there is time following this to take space for yourself\, then join the group again on the terrace to create community. \nThe evening starts and ends with everyone gathering in the open Courtyard where you can explore the Coven Market\, purchase drinks and food and enjoy the musical background.\nThe event starts at 7 ish and will finish around 9.30pm. \n(No entry after 8pm) \nOver 16year olds are permitted to purchase a ticket but must be accompanied by a paying adult \n  \nNB this is a fundraising event. Tid Mona are donating all entry fees to the Gardens for their continued upkeep. Entry fee £10 . Further donations on the night are welcome.
URL:https://www.castlebromwichhallgardens.org.uk/calendar/blue-moon-circles/
LOCATION:Castle Bromwich Hall Gardens Trust\, Chester Road\, Castle Bromwich\, Birmingham\, England\, B36 9BT\, United Kingdom
CATEGORIES:Wellbeing and Health
ATTACH;FMTTYPE=image/jpeg:https://www.castlebromwichhallgardens.org.uk/wp-content/uploads/2026/03/5cf6a0ed8a3e53c1c3fa9034c5363c2e-0WVQV7.tmp_.jpg
END:VEVENT
END:VCALENDAR