BEGIN:VCALENDAR
VERSION:2.0
PRODID:-//Castle Bromwich Historic Gardens - ECPv6.15.20//NONSGML v1.0//EN
CALSCALE:GREGORIAN
METHOD:PUBLISH
X-WR-CALNAME:Castle Bromwich Historic Gardens
X-ORIGINAL-URL:https://www.castlebromwichhallgardens.org.uk
X-WR-CALDESC:Events for Castle Bromwich Historic Gardens
REFRESH-INTERVAL;VALUE=DURATION:PT1H
X-Robots-Tag:noindex
X-PUBLISHED-TTL:PT1H
BEGIN:VTIMEZONE
TZID:Europe/London
BEGIN:DAYLIGHT
TZOFFSETFROM:+0000
TZOFFSETTO:+0100
TZNAME:BST
DTSTART:20250330T010000
END:DAYLIGHT
BEGIN:STANDARD
TZOFFSETFROM:+0100
TZOFFSETTO:+0000
TZNAME:GMT
DTSTART:20251026T010000
END:STANDARD
BEGIN:DAYLIGHT
TZOFFSETFROM:+0000
TZOFFSETTO:+0100
TZNAME:BST
DTSTART:20260329T010000
END:DAYLIGHT
BEGIN:STANDARD
TZOFFSETFROM:+0100
TZOFFSETTO:+0000
TZNAME:GMT
DTSTART:20261025T010000
END:STANDARD
BEGIN:DAYLIGHT
TZOFFSETFROM:+0000
TZOFFSETTO:+0100
TZNAME:BST
DTSTART:20270328T010000
END:DAYLIGHT
BEGIN:STANDARD
TZOFFSETFROM:+0100
TZOFFSETTO:+0000
TZNAME:GMT
DTSTART:20271031T010000
END:STANDARD
END:VTIMEZONE
BEGIN:VEVENT
DTSTART;TZID=Europe/London:20260214T103000
DTEND;TZID=Europe/London:20260214T120000
DTSTAMP:20260419T204737
CREATED:20251218T184715Z
LAST-MODIFIED:20251218T230201Z
UID:11002041-1771065000-1771070400@www.castlebromwichhallgardens.org.uk
SUMMARY:'Love Birds' Falconry Experience for St. Valentine's Day
DESCRIPTION:Ideal for St. Valentine’s Day! Get up close and personal with majestic birds of prey – a unique adventure awaits!\n\n\nFalconry Experiences on a special day\nJoin us for a real Valentine’s Day treat​ with our partners from Tora Falconry. Spend up to an hour and a half close up with these lovely birds. ​ \n\nGet Hands-on with Birds of Prey – Feel the thrill of handling and flying majestic hawks\, owls\, and falcons.\nConnect with Nature and experience the ancient bond between humans and raptors in a natural setting.\nLearn Something New – Discover the fascinating history and skills behind the art of falconry.\nUnique & Memorable – It’s not every day you come face-to-face with a bird of prey!\nA rare opportunity to share a special experience with loved ones or enjoy on your own.\n\nIncluded in the experience.\nA warming Winter beverage (alcoholic or non alcoholic) and a Toastie (with filling of your choice) is included in your ticket – A whole Love Birds package! \nPlease note\, we are not in a position to offer vegan or gluten free toasties. \nOther details \n\nFree access to the Gardens all day while we are open.\nFree Parking.\nPlease arrive by 10:15 for the morning session\, and 12:45 for the afternoon one as we don’t want you to miss any of the event!\nIndividual ticket:\nCouples ticket:\n\n 
URL:https://www.castlebromwichhallgardens.org.uk/calendar/love-birds-falconry-experience-for-st-valentines-day-2/
LOCATION:Castle Bromwich Hall and Gardens Trust\, Chester Road\, Castle Bromwich\, Castle Bromwich\, Birmingham\, England\, B36 9BT\, United Kingdom
CATEGORIES:Wildlife
ATTACH;FMTTYPE=image/jpeg:https://www.castlebromwichhallgardens.org.uk/wp-content/uploads/2025/12/41a5bc616bdf2176c02aa6fadd1d5f7e-HfWPOT.tmp_.jpg
END:VEVENT
END:VCALENDAR