BEGIN:VCALENDAR
VERSION:2.0
PRODID:-//Castle Bromwich Historic Gardens - ECPv6.15.20//NONSGML v1.0//EN
CALSCALE:GREGORIAN
METHOD:PUBLISH
X-WR-CALNAME:Castle Bromwich Historic Gardens
X-ORIGINAL-URL:https://www.castlebromwichhallgardens.org.uk
X-WR-CALDESC:Events for Castle Bromwich Historic Gardens
REFRESH-INTERVAL;VALUE=DURATION:PT1H
X-Robots-Tag:noindex
X-PUBLISHED-TTL:PT1H
BEGIN:VTIMEZONE
TZID:Europe/London
BEGIN:DAYLIGHT
TZOFFSETFROM:+0000
TZOFFSETTO:+0100
TZNAME:BST
DTSTART:20250330T010000
END:DAYLIGHT
BEGIN:STANDARD
TZOFFSETFROM:+0100
TZOFFSETTO:+0000
TZNAME:GMT
DTSTART:20251026T010000
END:STANDARD
BEGIN:DAYLIGHT
TZOFFSETFROM:+0000
TZOFFSETTO:+0100
TZNAME:BST
DTSTART:20260329T010000
END:DAYLIGHT
BEGIN:STANDARD
TZOFFSETFROM:+0100
TZOFFSETTO:+0000
TZNAME:GMT
DTSTART:20261025T010000
END:STANDARD
BEGIN:DAYLIGHT
TZOFFSETFROM:+0000
TZOFFSETTO:+0100
TZNAME:BST
DTSTART:20270328T010000
END:DAYLIGHT
BEGIN:STANDARD
TZOFFSETFROM:+0100
TZOFFSETTO:+0000
TZNAME:GMT
DTSTART:20271031T010000
END:STANDARD
END:VTIMEZONE
BEGIN:VEVENT
DTSTART;TZID=Europe/London:20260721T160000
DTEND;TZID=Europe/London:20260721T180000
DTSTAMP:20260420T130112
CREATED:20260419T121801Z
LAST-MODIFIED:20260419T121801Z
UID:11002099-1784649600-1784656800@www.castlebromwichhallgardens.org.uk
SUMMARY:King Arthur and the Holy Fail
DESCRIPTION:Our Medieval summer continues with the return of Three Inch Theatre’s wonderful family friendly show.. \nAn epic tale of Arthurian adventure and medieval mayhem.\n\n\nIn a land of daring quests\, dashing knights\, and endless jousting\, there lived a would-be hero – waiting in the wings – who went by the name of Arthur. When Camelot is rocked to it’s core by a tragic – and frankly improbable – incident involving a large table of an undisclosed shape\, Arthur is thrust into the quest of a lifetime. Will he bravely battle through blistering cold and scorching fire to save his beloved realm\, or will he crumble as fate refuses to cooperate? \nDestiny awaits\, chivalry calls\, and the quest to end all quests begins. Saddle up – things are about to get legendary. \n★★★★★ – “So entertaining…laugh-out-loud funny” \n★★★★★ – “Riotously fun. Hugely enjoyable” \n★★★★★ – “The ultimate British theatrical experience” – Hastings Independent Press \n★★★★★ – “Great fun for the whole family…my kids are still talking about it!” \nOn Tuesday 21st July\, join us at Castle Bromwich Historic Gardens. Bring your own cushions\, and camping-chairs and join us for this most epic of quests. Come prepared for the weather – the performance will continue come rain come shine! \n\nTickets from £20 -£60\, (under 5s’ Free) \nEarly Bird (ends Apr 30th) \n\nStandard ticket £21.20\nFamily (2+2) £58\n\nMay onwards: \n\nStandard Adult £24\nUnder 18 £12\nFamily (2+2)  £63.50\n\n\n\n\n\n\n\n\n\n\nBOOK HERE  \n(external site)
URL:https://www.castlebromwichhallgardens.org.uk/calendar/king-arthur-and-the-holy-fail/
LOCATION:Castle Bromwich Historic Gardens\, Chester Road\, Castle Bromwich\, Birmingham\, B36 9BT\, United Kingdom
CATEGORIES:Family,Music & Theatre,School Holiday,Summer
ATTACH;FMTTYPE=image/jpeg:https://www.castlebromwichhallgardens.org.uk/wp-content/uploads/2026/04/2160-x-1080-Banner-scaled.jpg
END:VEVENT
BEGIN:VEVENT
DTSTART;TZID=Europe/London:20260730T123000
DTEND;TZID=Europe/London:20260730T133000
DTSTAMP:20260420T130112
CREATED:20260419T144411Z
LAST-MODIFIED:20260419T151215Z
UID:11002116-1785414600-1785418200@www.castlebromwichhallgardens.org.uk
SUMMARY:Summer Hapa Zome Workshop
DESCRIPTION:Learn all about the art of Hapa Zome\, have a ago and take home your creation.\n\n\nHapa Zome is a fun and creative way of connecting art and nature.\nOriginally from Japan\, it involves pounding leaves\, flowers and other natural materials onto fabric and paper to create colourful and beautiful patterns.\nWhat to expect- \n\nYou will be introduced to Hapa Zome with a demonstration from our instructor.\nAfter that it’s time for you to experiment\, explore which materials work better and why\,\nCreate your own Hapa Zome print to take home with you.\n\nThis workshop is suitable for children aged 5-13 YO. (All children must be accompanied by an adult.)\n  \nAll materials supplied and instructions on the day will be relatively simple for you to work and create together\, or individually . \nFREE …The ticket also includes a general Gardens entry for child and single accompanying adult. \n  \nThis Workshop is supported by The National Lottery Awards for All.
URL:https://www.castlebromwichhallgardens.org.uk/calendar/summer-hapa-zome-workshop/2026-07-30/
LOCATION:Castle Bromwich Hall Gardens Trust\, Chester Road\, Castle Bromwich\, Birmingham\, England\, B36 9BT\, United Kingdom
CATEGORIES:Creative Workshops,Family,outdoor learning,School Holiday,Summer,Workshops & Activities
ATTACH;FMTTYPE=image/jpeg:https://www.castlebromwichhallgardens.org.uk/wp-content/uploads/2026/04/cd51419d728445fe5889a5c791bc9f79-JDCp8I.tmp_-e1776611526634.jpg
END:VEVENT
BEGIN:VEVENT
DTSTART;TZID=Europe/London:20260821T123000
DTEND;TZID=Europe/London:20260821T133000
DTSTAMP:20260420T130112
CREATED:20260419T144411Z
LAST-MODIFIED:20260419T151215Z
UID:11002117-1787315400-1787319000@www.castlebromwichhallgardens.org.uk
SUMMARY:Summer Hapa Zome Workshop
DESCRIPTION:Learn all about the art of Hapa Zome\, have a ago and take home your creation.\n\n\nHapa Zome is a fun and creative way of connecting art and nature.\nOriginally from Japan\, it involves pounding leaves\, flowers and other natural materials onto fabric and paper to create colourful and beautiful patterns.\nWhat to expect- \n\nYou will be introduced to Hapa Zome with a demonstration from our instructor.\nAfter that it’s time for you to experiment\, explore which materials work better and why\,\nCreate your own Hapa Zome print to take home with you.\n\nThis workshop is suitable for children aged 5-13 YO. (All children must be accompanied by an adult.)\n  \nAll materials supplied and instructions on the day will be relatively simple for you to work and create together\, or individually . \nFREE …The ticket also includes a general Gardens entry for child and single accompanying adult. \n  \nThis Workshop is supported by The National Lottery Awards for All.
URL:https://www.castlebromwichhallgardens.org.uk/calendar/summer-hapa-zome-workshop/2026-08-21/
LOCATION:Castle Bromwich Hall Gardens Trust\, Chester Road\, Castle Bromwich\, Birmingham\, England\, B36 9BT\, United Kingdom
CATEGORIES:Creative Workshops,Family,outdoor learning,School Holiday,Summer,Workshops & Activities
ATTACH;FMTTYPE=image/jpeg:https://www.castlebromwichhallgardens.org.uk/wp-content/uploads/2026/04/cd51419d728445fe5889a5c791bc9f79-JDCp8I.tmp_-e1776611526634.jpg
END:VEVENT
BEGIN:VEVENT
DTSTART;TZID=Europe/London:20260826T123000
DTEND;TZID=Europe/London:20260826T133000
DTSTAMP:20260420T130112
CREATED:20260419T144411Z
LAST-MODIFIED:20260419T151215Z
UID:11002118-1787747400-1787751000@www.castlebromwichhallgardens.org.uk
SUMMARY:Summer Hapa Zome Workshop
DESCRIPTION:Learn all about the art of Hapa Zome\, have a ago and take home your creation.\n\n\nHapa Zome is a fun and creative way of connecting art and nature.\nOriginally from Japan\, it involves pounding leaves\, flowers and other natural materials onto fabric and paper to create colourful and beautiful patterns.\nWhat to expect- \n\nYou will be introduced to Hapa Zome with a demonstration from our instructor.\nAfter that it’s time for you to experiment\, explore which materials work better and why\,\nCreate your own Hapa Zome print to take home with you.\n\nThis workshop is suitable for children aged 5-13 YO. (All children must be accompanied by an adult.)\n  \nAll materials supplied and instructions on the day will be relatively simple for you to work and create together\, or individually . \nFREE …The ticket also includes a general Gardens entry for child and single accompanying adult. \n  \nThis Workshop is supported by The National Lottery Awards for All.
URL:https://www.castlebromwichhallgardens.org.uk/calendar/summer-hapa-zome-workshop/2026-08-26/
LOCATION:Castle Bromwich Hall Gardens Trust\, Chester Road\, Castle Bromwich\, Birmingham\, England\, B36 9BT\, United Kingdom
CATEGORIES:Creative Workshops,Family,outdoor learning,School Holiday,Summer,Workshops & Activities
ATTACH;FMTTYPE=image/jpeg:https://www.castlebromwichhallgardens.org.uk/wp-content/uploads/2026/04/cd51419d728445fe5889a5c791bc9f79-JDCp8I.tmp_-e1776611526634.jpg
END:VEVENT
END:VCALENDAR