BEGIN:VCALENDAR
VERSION:2.0
PRODID:-//Castle Bromwich Historic Gardens - ECPv6.15.20//NONSGML v1.0//EN
CALSCALE:GREGORIAN
METHOD:PUBLISH
X-ORIGINAL-URL:https://www.castlebromwichhallgardens.org.uk
X-WR-CALDESC:Events for Castle Bromwich Historic Gardens
REFRESH-INTERVAL;VALUE=DURATION:PT1H
X-Robots-Tag:noindex
X-PUBLISHED-TTL:PT1H
BEGIN:VTIMEZONE
TZID:Europe/London
BEGIN:DAYLIGHT
TZOFFSETFROM:+0000
TZOFFSETTO:+0100
TZNAME:BST
DTSTART:20250330T010000
END:DAYLIGHT
BEGIN:STANDARD
TZOFFSETFROM:+0100
TZOFFSETTO:+0000
TZNAME:GMT
DTSTART:20251026T010000
END:STANDARD
BEGIN:DAYLIGHT
TZOFFSETFROM:+0000
TZOFFSETTO:+0100
TZNAME:BST
DTSTART:20260329T010000
END:DAYLIGHT
BEGIN:STANDARD
TZOFFSETFROM:+0100
TZOFFSETTO:+0000
TZNAME:GMT
DTSTART:20261025T010000
END:STANDARD
BEGIN:DAYLIGHT
TZOFFSETFROM:+0000
TZOFFSETTO:+0100
TZNAME:BST
DTSTART:20270328T010000
END:DAYLIGHT
BEGIN:STANDARD
TZOFFSETFROM:+0100
TZOFFSETTO:+0000
TZNAME:GMT
DTSTART:20271031T010000
END:STANDARD
END:VTIMEZONE
BEGIN:VEVENT
DTSTART;TZID=Europe/London:20260322T103000
DTEND;TZID=Europe/London:20260322T153000
DTSTAMP:20260421T151106
CREATED:20260217T133009Z
LAST-MODIFIED:20260220T142919Z
UID:11002065-1774175400-1774193400@www.castlebromwichhallgardens.org.uk
SUMMARY:Blossom Bash -  a blooming spring celebration: free event
DESCRIPTION:This March our Historic Gardens are teaming up with the National Trust to celebrate the start of Spring and the National Trust’s own Festival of Blossom by hosting its first ever Blossom Bash.\nBlossom season starts with blackthorn (sloes!)\, then beautiful pink fluffy cherry blossoms around the city\, before moving on to the generous blossom of pear trees\, then apples.  The highly scented Hawthorn (‘May’) and Elderflower follow later. \nThis Blossom Bash free event is a great way to start the season and brighten the experience for our eyes and nose…all welcome\, just drop in. \nSunday 22 March 2026\, 10:30am to 3:30pm\na day of family filled fun\, fresh air and FREE activities.\nThe National Trust held an family picnic event in the grounds of The Charterhouse in Coventry to celebrate the start of the 2024 Blossom project. Picture by Shaun Fellows / Shine Pix Ltd \nActivities include: \n\nFlower Crown making with Ildiko Nagy\nScavenger Trails around the gardens and orchards\nInteractive storytelling with Pyn Stockman (11.30am and 1.30pm)\nFacepainting with Coloured Cheeks\nBlossom themed crafts\nPhotos with our Blossom Queen.\n\nWe’ll also be showcasing the four winning designs from the National Trust Blossoming Spaces Competition which were submitted by primary and secondary children across East Birmingham. \n\nSpecial Offers\nThe first 150 people to enter the event and share how they heard about the Blossom Bash will receive a token for a free hot or cold drink from the café. \nAdditional free  free travel: NT will be arranging coaches departing from\, and returning to sites within Shard End\, Heartlands\, Bromford & Hodge Hill and Yardley & West Stechford. For more information about the coach\, please email Birmingham-Blossom@nationaltrust.org.uk \n  \nMore events\nLook out for more blossom events at the Gardens across the season: \n\nMorris into May\, Sunday 3rd May\,\n‘English Hanami’ blossom picnics\, with Japanese food  Sunday10th May\,\nElderflower foraging and cordial making (tbc)\,
URL:https://www.castlebromwichhallgardens.org.uk/calendar/blossom-bash-a-blooming-spring-celebration-free-event/
LOCATION:Castle Bromwich Historic Gardens\, Chester Road\, Castle Bromwich\, Birmingham\, B36 9BT\, United Kingdom
CATEGORIES:community,Family,Gardens,Members - Early Access,seasonal,Wildlife,Workshops & Activities
ATTACH;FMTTYPE=image/jpeg:https://www.castlebromwichhallgardens.org.uk/wp-content/uploads/2026/02/Blossom-Bash-event-cover.jpg
END:VEVENT
BEGIN:VEVENT
DTSTART;TZID=Europe/London:20260406T120000
DTEND;TZID=Europe/London:20260406T140000
DTSTAMP:20260421T151106
CREATED:20260331T134814Z
LAST-MODIFIED:20260331T134915Z
UID:11002096-1775476800-1775484000@www.castlebromwichhallgardens.org.uk
SUMMARY:Mummers for Easter Monday
DESCRIPTION:Easter trails continue on Easter Monday .. and as an extra treat (12 ish &1.30pm) a tradtitional ‘Pace Egging’ Mummers play from our friends the Glorishears of Brummagem.\nA bit like pantomime\, ‘Mummers’ plays are gentle knock about folk plays tradtionally played at christmas\, new year and easter. \nBrummagem Mummers are thrilled to make their return to the Gardens to bring their own take on mumming\, in this short Easter themed play that is suitable for all ages.\nFree performances (about 20mins) in the Courtyard at 12 and 1.30 ish … \n\nRobin Hood and Little John battle with Fred the Fly Tipper\, who not only is dumping rubbish all over our countryside but is now trying to steal the King’s deer from Sherwood Forest.  \nJoin Brummagem Morris in their off-beat\, hysterical\, modern\, interpretation of a traditional mummers play.  \nCringe at the terrible gags.  \nMeet Dobbin the horse and Jolly Jack the sailor (what’s he doing in Sherwood?)  \nSee what wonderous cures the Doctor can pull out of his bag to resuscitate the fallen characters. \nLaugh at the terrible rhyming poetry and groan at the awful puns.  \nFun for all the family.
URL:https://www.castlebromwichhallgardens.org.uk/calendar/mummers-for-easter-monday/
LOCATION:Castle Bromwich Historic Gardens\, Chester Road\, Castle Bromwich\, Birmingham\, B36 9BT\, United Kingdom
CATEGORIES:community,Easter,Heritage
ATTACH;FMTTYPE=image/jpeg:https://www.castlebromwichhallgardens.org.uk/wp-content/uploads/2026/03/easter-Monday-Pace-Egging-.jpg
END:VEVENT
BEGIN:VEVENT
DTSTART;TZID=Europe/London:20260419T080000
DTEND;TZID=Europe/London:20260419T123000
DTSTAMP:20260421T151106
CREATED:20251228T174119Z
LAST-MODIFIED:20260414T140343Z
UID:11002049-1776585600-1776601800@www.castlebromwichhallgardens.org.uk
SUMMARY:Carboot Sale (Fundraiser)
DESCRIPTION:Free entry for buyers\n09:30 –  12:30\nAfter last year’s autumn date was ‘storm cancelled’… we trying again for  April… \nWith bacon batches being served from 09:00\, and the Gardens open from the same time\, we can’t wait to welcome so may of you to this historic space. \n(Previous pitch bookers will be contacted directly – there may not be room for new tables sorry – keep checking back here for any changes)\nThis is a fundraising event for the Gardens so please do give generously… 
URL:https://www.castlebromwichhallgardens.org.uk/calendar/carboot-sale-fundraiser/
LOCATION:Castle Bromwich Historic Gardens\, Chester Road\, Castle Bromwich\, Birmingham\, B36 9BT\, United Kingdom
CATEGORIES:community,Members - Early Access
ATTACH;FMTTYPE=image/jpeg:https://www.castlebromwichhallgardens.org.uk/wp-content/uploads/2025/12/Flag-up-Carboot.jpg
END:VEVENT
BEGIN:VEVENT
DTSTART;TZID=Europe/London:20260503T113000
DTEND;TZID=Europe/London:20260503T163000
DTSTAMP:20260421T151106
CREATED:20251228T173639Z
LAST-MODIFIED:20260411T143444Z
UID:11002048-1777807800-1777825800@www.castlebromwichhallgardens.org.uk
SUMMARY:Morris into May...
DESCRIPTION:Morris Into May\nThe success of the 2025 event has led us to schedule it once more. \nAs the last vestiges of Winter are beaten back by the arrival of Summer\, we welcome warmer\, sunnier and altogether more colourful days. Join us for all the madness of May\, Beorma Morris and the Wild Man of the Wood… \nMerry Crafts\nIf you don’t quite have the chance to bring your own floral outfit\, then we have you sorted. In our Melon Ground\, from 11:30\, our wonderful volunteers will be showing you how to make and decorate your own willow crowns. Ideal for any Merry May event\, they will be the perfect headwear for the day’s happenings. Donations welcome. \nMerry Morris\, the Green Man and the May Monarch\nWhen you’ve had the chance to make your crowns\, Beorma will strike up at 14:00 with their Border dances to entertain you all. Then the Wild Man of the Wood will then introduce the folklore of May and its merry connotations\, before we gather for our Coronation procession onto the Archery Lawn. Here\, our chosen May Monarch will be crowned\, and the last of Winter chased away in true Border Morris fashion. \nIt’s a chance to indulge in a bit of Merrie Old England\, and welcome in the Summer\, all in the Merry Month of May! \nCome dressed in white and florals\, with head-dresses and all manner of folky accoutrements\, and you might just be chosen to be crowned as our May Monarch! \n \nEntry fees apply. Free for Annual Pass holders. \nDo support us by purchasing from our café and our shop. \n  \n 
URL:https://www.castlebromwichhallgardens.org.uk/calendar/morris-into-may/
LOCATION:Castle Bromwich Historic Gardens\, Chester Road\, Castle Bromwich\, Birmingham\, B36 9BT\, United Kingdom
CATEGORIES:community,Family,Heritage,Music & Theatre
ATTACH;FMTTYPE=image/jpeg:https://www.castlebromwichhallgardens.org.uk/wp-content/uploads/2025/12/FLAG-UP-Morris-into-may.jpg
END:VEVENT
BEGIN:VEVENT
DTSTART;TZID=Europe/London:20260621T110000
DTEND;TZID=Europe/London:20260621T163000
DTSTAMP:20260421T151106
CREATED:20251228T175618Z
LAST-MODIFIED:20251228T175618Z
UID:11002053-1782039600-1782059400@www.castlebromwichhallgardens.org.uk
SUMMARY:Vegan Market Day
DESCRIPTION:A Diary Prompt\nWe had a record number of (Yummy) food and vegan product stalls last year ..but the weather rather spoilt our picnics half way through – But the Central England Concert Band were happy to have us close up under the tent… a different kind of treat. \nFingers corssed for this years visit.. \nMore info coming soon
URL:https://www.castlebromwichhallgardens.org.uk/calendar/vegan-market-day/
LOCATION:Castle Bromwich Historic Gardens\, Chester Road\, Castle Bromwich\, Birmingham\, B36 9BT\, United Kingdom
CATEGORIES:community,Food- Markets and Eating,Food: Growing & Eating,Music & Theatre
ATTACH;FMTTYPE=image/jpeg:https://www.castlebromwichhallgardens.org.uk/wp-content/uploads/2025/12/FLAG-UP-Vegan-Market.jpg
END:VEVENT
END:VCALENDAR